BEGIN:VCALENDAR
VERSION:2.0
PRODID:-//Jonathan Panetta - ECPv6.15.18//NONSGML v1.0//EN
CALSCALE:GREGORIAN
METHOD:PUBLISH
X-ORIGINAL-URL:https://jonathanpanetta.com
X-WR-CALDESC:Events for Jonathan Panetta
REFRESH-INTERVAL;VALUE=DURATION:PT1H
X-Robots-Tag:noindex
X-PUBLISHED-TTL:PT1H
BEGIN:VTIMEZONE
TZID:UTC
BEGIN:STANDARD
TZOFFSETFROM:+0000
TZOFFSETTO:+0000
TZNAME:UTC
DTSTART:20240101T000000
END:STANDARD
END:VTIMEZONE
BEGIN:VEVENT
DTSTART;TZID=UTC:20250125T123000
DTEND;TZID=UTC:20250125T130000
DTSTAMP:20260421T082759
CREATED:20250108T144125Z
LAST-MODIFIED:20250109T004003Z
UID:2436-1737808200-1737810000@jonathanpanetta.com
SUMMARY:Jonathan Panetta live at Harmony Hall
DESCRIPTION:
URL:https://jonathanpanetta.com/event/jonathan-panetta-live-at-harmony-hall/
LOCATION:772A Dundas Street W\, Toronto ON\, M6J1V1\, 772A Dundas Street W\, Toronto ON\, M6J1V1\, Toronto\, M5V2A2\, Canada
ATTACH;FMTTYPE=image/jpeg:https://jonathanpanetta.com/wp-content/uploads/2025/01/IMG_2839.jpg
END:VEVENT
END:VCALENDAR